BEGIN:VCALENDAR
VERSION:2.0
PRODID:-//hacksw/handcal//NONSGML v1.0//EN
CALSCALE:GREGORIAN
BEGIN:VEVENT
LOCATION:83420 La Croix-Valmer
DESCRIPTION:/fr/animation/nature-et-detente/la-croix-valmer/sortie-nature-hibou-petit-duc-7791096
DTSTART:20260611T230000Z
DTEND:20260611T230000Z
SUMMARY:Sortie nature : Hibou petit-Duc
URL;VALUE=URI:/fr/animation/nature-et-detente/la-croix-valmer/sortie-nature-hibou-petit-duc-7791096
DTSTAMP:20260422T104401Z
UID:69e8a671af135
END:VEVENT
END:VCALENDAR