BEGIN:VCALENDAR
VERSION:2.0
PRODID:-//hacksw/handcal//NONSGML v1.0//EN
CALSCALE:GREGORIAN
BEGIN:VEVENT
LOCATION:83420 La Croix-Valmer
DESCRIPTION:/en/animation/nature-and-relaxation/la-croix-valmer/nature-walk-owl-petit-duc-7791096
DTSTART:20260612T000000Z
DTEND:20260612T000000Z
SUMMARY:Nature walk : Owl "Petit-Duc"
URL;VALUE=URI:/en/animation/nature-and-relaxation/la-croix-valmer/nature-walk-owl-petit-duc-7791096
DTSTAMP:20260422T122015Z
UID:69e8bcff87a89
END:VEVENT
END:VCALENDAR