BEGIN:VCALENDAR
VERSION:2.0
PRODID:-//hacksw/handcal//NONSGML v1.0//EN
CALSCALE:GREGORIAN
BEGIN:VEVENT
LOCATION:83420 La Croix-Valmer
DESCRIPTION:/de/animation/nature-und-entspannung/la-croix-valmer/ausflug-in-die-natur-zwergohreule-7791096
DTSTART:20260612T000000Z
DTEND:20260612T000000Z
SUMMARY:Ausflug in die Natur : Zwergohreule
URL;VALUE=URI:/de/animation/nature-und-entspannung/la-croix-valmer/ausflug-in-die-natur-zwergohreule-7791096
DTSTAMP:20260422T121236Z
UID:69e8bb3439fa5
END:VEVENT
END:VCALENDAR