BEGIN:VCALENDAR
VERSION:2.0
PRODID:-//hacksw/handcal//NONSGML v1.0//EN
CALSCALE:GREGORIAN
BEGIN:VEVENT
LOCATION:Place des Palmiers\, 83420 La Croix-Valmer
DESCRIPTION:/de/animation/freizeit-und-unterhaltung/la-croix-valmer/exposition-moments-suspendus-7779572
DTSTART:20260522T000000Z
DTEND:20260602T000000Z
SUMMARY:Exposition : Moments Suspendus
URL;VALUE=URI:/de/animation/freizeit-und-unterhaltung/la-croix-valmer/exposition-moments-suspendus-7779572
DTSTAMP:20260419T201246Z
UID:69e5373e769c9
END:VEVENT
END:VCALENDAR