BEGIN:VCALENDAR
VERSION:2.0
PRODID:-//hacksw/handcal//NONSGML v1.0//EN
CALSCALE:GREGORIAN
BEGIN:VEVENT
LOCATION:Odyssée 80\, 83420 La Croix-Valmer
DESCRIPTION:/en/animation/entertainment-recreation/la-croix-valmer/concert-ensemble-musical-de-la-croix-valmer-7705294
DTSTART:20260628T000000Z
DTEND:20260628T000000Z
SUMMARY:Concert : Ensemble musical de La Croix Valmer
URL;VALUE=URI:/en/animation/entertainment-recreation/la-croix-valmer/concert-ensemble-musical-de-la-croix-valmer-7705294
DTSTAMP:20260422T064430Z
UID:69e86e4e85795
END:VEVENT
END:VCALENDAR