BEGIN:VCALENDAR
VERSION:2.0
PRODID:-//hacksw/handcal//NONSGML v1.0//EN
CALSCALE:GREGORIAN
BEGIN:VEVENT
LOCATION:Odyssée 80\, 83420 La Croix-Valmer
DESCRIPTION:/de/animation/freizeit-und-unterhaltung/la-croix-valmer/konzert-ensemble-musical-de-la-croix-valmer-7705294
DTSTART:20260628T000000Z
DTEND:20260628T000000Z
SUMMARY:Konzert : Ensemble musical de La Croix Valmer
URL;VALUE=URI:/de/animation/freizeit-und-unterhaltung/la-croix-valmer/konzert-ensemble-musical-de-la-croix-valmer-7705294
DTSTAMP:20260422T062629Z
UID:69e86a15ccfc2
END:VEVENT
END:VCALENDAR