BEGIN:VCALENDAR
VERSION:2.0
PRODID:-//hacksw/handcal//NONSGML v1.0//EN
CALSCALE:GREGORIAN
BEGIN:VEVENT
LOCATION:Boulevard du Maréchal Alphonse Juin\, 83420 La Croix-Valmer
DESCRIPTION:/fr/animation/distractions-et-loisirs/la-croix-valmer/concert-koninklijke-biltse-harmonie-7705274
DTSTART:20260628T000000Z
DTEND:20260628T000000Z
SUMMARY:Concert : Koninklijke Biltse Harmonie
URL;VALUE=URI:/fr/animation/distractions-et-loisirs/la-croix-valmer/concert-koninklijke-biltse-harmonie-7705274
DTSTAMP:20260422T040254Z
UID:69e8486e9b446
END:VEVENT
END:VCALENDAR