BEGIN:VCALENDAR
VERSION:2.0
PRODID:-//hacksw/handcal//NONSGML v1.0//EN
CALSCALE:GREGORIAN
BEGIN:VEVENT
LOCATION:Boulevard du Maréchal Alphonse Juin\, 83420 La Croix-Valmer
DESCRIPTION:/de/animation/freizeit-und-unterhaltung/la-croix-valmer/konzert-koninklijke-biltse-harmonie-7705274
DTSTART:20260628T000000Z
DTEND:20260628T000000Z
SUMMARY:Konzert : Koninklijke Biltse Harmonie
URL;VALUE=URI:/de/animation/freizeit-und-unterhaltung/la-croix-valmer/konzert-koninklijke-biltse-harmonie-7705274
DTSTAMP:20260422T052557Z
UID:69e85be59ca83
END:VEVENT
END:VCALENDAR