BEGIN:VCALENDAR
VERSION:2.0
PRODID:-//hacksw/handcal//NONSGML v1.0//EN
CALSCALE:GREGORIAN
BEGIN:VEVENT
LOCATION:Odyssée 80\, 83420 La Croix-Valmer
DESCRIPTION:/fr/animation/distractions-et-loisirs/la-croix-valmer/concert-west-virginia-university-wind-symphony-7705263
DTSTART:20260628T000000Z
DTEND:20260628T000000Z
SUMMARY:Concert : West Virginia University Wind Symphony
URL;VALUE=URI:/fr/animation/distractions-et-loisirs/la-croix-valmer/concert-west-virginia-university-wind-symphony-7705263
DTSTAMP:20260422T081106Z
UID:69e8829a34337
END:VEVENT
END:VCALENDAR