BEGIN:VCALENDAR
VERSION:2.0
PRODID:-//hacksw/handcal//NONSGML v1.0//EN
CALSCALE:GREGORIAN
BEGIN:VEVENT
LOCATION:Odyssée 80\, 83420 La Croix-Valmer
DESCRIPTION:/de/animation/freizeit-und-unterhaltung/la-croix-valmer/konzert-west-virginia-university-wind-symphony-7705263
DTSTART:20260628T000000Z
DTEND:20260628T000000Z
SUMMARY:Konzert : West Virginia University Wind Symphony
URL;VALUE=URI:/de/animation/freizeit-und-unterhaltung/la-croix-valmer/konzert-west-virginia-university-wind-symphony-7705263
DTSTAMP:20260422T095309Z
UID:69e89a85cd3d8
END:VEVENT
END:VCALENDAR