BEGIN:VCALENDAR
VERSION:2.0
PRODID:-//hacksw/handcal//NONSGML v1.0//EN
CALSCALE:GREGORIAN
BEGIN:VEVENT
LOCATION:Odyssée 80\, 83420 La Croix-Valmer
DESCRIPTION:/fr/animation/distractions-et-loisirs/la-croix-valmer/concert-orchestre-symphonique-conservatoire-de-prague-7705249
DTSTART:20260628T000000Z
DTEND:20260628T000000Z
SUMMARY:Concert : Orchestre Symphonique Conservatoire de Prague
URL;VALUE=URI:/fr/animation/distractions-et-loisirs/la-croix-valmer/concert-orchestre-symphonique-conservatoire-de-prague-7705249
DTSTAMP:20260422T064434Z
UID:69e86e52a9d64
END:VEVENT
END:VCALENDAR