BEGIN:VCALENDAR
VERSION:2.0
PRODID:-//hacksw/handcal//NONSGML v1.0//EN
CALSCALE:GREGORIAN
BEGIN:VEVENT
LOCATION:Odyssée 80\, 83420 La Croix-Valmer
DESCRIPTION:/en/animation/entertainment-recreation/la-croix-valmer/concert-conservatoire-symphonic-orchestra-prague-7705249
DTSTART:20260628T000000Z
DTEND:20260628T000000Z
SUMMARY:Concert : Conservatoire Symphonic Orchestra\, Prague
URL;VALUE=URI:/en/animation/entertainment-recreation/la-croix-valmer/concert-conservatoire-symphonic-orchestra-prague-7705249
DTSTAMP:20260422T080856Z
UID:69e8821869171
END:VEVENT
END:VCALENDAR