BEGIN:VCALENDAR
VERSION:2.0
PRODID:-//hacksw/handcal//NONSGML v1.0//EN
CALSCALE:GREGORIAN
BEGIN:VEVENT
LOCATION:Odyssée 80\, 83420 La Croix-Valmer
DESCRIPTION:/de/animation/freizeit-und-unterhaltung/la-croix-valmer/konzert-conservatoire-symphonic-orchestra-prag-7705249
DTSTART:20260628T000000Z
DTEND:20260628T000000Z
SUMMARY:Konzert : Conservatoire Symphonic Orchestra\, Prag\,
URL;VALUE=URI:/de/animation/freizeit-und-unterhaltung/la-croix-valmer/konzert-conservatoire-symphonic-orchestra-prag-7705249
DTSTAMP:20260422T080555Z
UID:69e881631781b
END:VEVENT
END:VCALENDAR