BEGIN:VCALENDAR
VERSION:2.0
PRODID:-//hacksw/handcal//NONSGML v1.0//EN
CALSCALE:GREGORIAN
BEGIN:VEVENT
LOCATION:Odyssée 80\, 83420 La Croix-Valmer
DESCRIPTION:/en/animation/entertainment-recreation/la-croix-valmer/concert-koninklijke-biltse-harmonie-7705184
DTSTART:20260627T000000Z
DTEND:20260627T000000Z
SUMMARY:Concert : Koninklijke Biltse Harmonie
URL;VALUE=URI:/en/animation/entertainment-recreation/la-croix-valmer/concert-koninklijke-biltse-harmonie-7705184
DTSTAMP:20260422T011729Z
UID:69e821a9e1f81
END:VEVENT
END:VCALENDAR