BEGIN:VCALENDAR
VERSION:2.0
PRODID:-//hacksw/handcal//NONSGML v1.0//EN
CALSCALE:GREGORIAN
BEGIN:VEVENT
LOCATION:Odyssée 80\, 83420 La Croix-Valmer
DESCRIPTION:/de/animation/freizeit-und-unterhaltung/la-croix-valmer/konzert-koninklijke-biltse-harmonie-7705184
DTSTART:20260627T000000Z
DTEND:20260627T000000Z
SUMMARY:Konzert : Koninklijke Biltse Harmonie
URL;VALUE=URI:/de/animation/freizeit-und-unterhaltung/la-croix-valmer/konzert-koninklijke-biltse-harmonie-7705184
DTSTAMP:20260422T011303Z
UID:69e8209fea133
END:VEVENT
END:VCALENDAR