BEGIN:VCALENDAR
VERSION:2.0
PRODID:-//hacksw/handcal//NONSGML v1.0//EN
CALSCALE:GREGORIAN
BEGIN:VEVENT
LOCATION:Boulevard du Maréchal Alphonse Juin\, 83420 La Croix-Valmer
DESCRIPTION:/fr/animation/distractions-et-loisirs/la-croix-valmer/concert-west-virginia-university-wind-symphony-7705162
DTSTART:20260626T230000Z
DTEND:20260626T230000Z
SUMMARY:Concert : West Virginia University Wind Symphony
URL;VALUE=URI:/fr/animation/distractions-et-loisirs/la-croix-valmer/concert-west-virginia-university-wind-symphony-7705162
DTSTAMP:20260421T221045Z
UID:69e7f5e5bee24
END:VEVENT
END:VCALENDAR