BEGIN:VCALENDAR
VERSION:2.0
PRODID:-//hacksw/handcal//NONSGML v1.0//EN
CALSCALE:GREGORIAN
BEGIN:VEVENT
LOCATION:Boulevard du Maréchal Alphonse Juin\, 83420 La Croix-Valmer
DESCRIPTION:/en/animation/entertainment-recreation/la-croix-valmer/concert-west-virginia-university-wind-symphony-7705162
DTSTART:20260627T000000Z
DTEND:20260627T000000Z
SUMMARY:Concert : West Virginia University Wind Symphony
URL;VALUE=URI:/en/animation/entertainment-recreation/la-croix-valmer/concert-west-virginia-university-wind-symphony-7705162
DTSTAMP:20260421T234549Z
UID:69e80c2da4748
END:VEVENT
END:VCALENDAR