BEGIN:VCALENDAR
VERSION:2.0
PRODID:-//hacksw/handcal//NONSGML v1.0//EN
CALSCALE:GREGORIAN
BEGIN:VEVENT
LOCATION:Boulevard du Maréchal Alphonse Juin\, 83420 La Croix-Valmer
DESCRIPTION:/de/animation/freizeit-und-unterhaltung/la-croix-valmer/konzert-west-virginia-university-wind-symphony-7705162
DTSTART:20260627T000000Z
DTEND:20260627T000000Z
SUMMARY:Konzert : West Virginia University Wind Symphony
URL;VALUE=URI:/de/animation/freizeit-und-unterhaltung/la-croix-valmer/konzert-west-virginia-university-wind-symphony-7705162
DTSTAMP:20260421T234759Z
UID:69e80caf5708f
END:VEVENT
END:VCALENDAR