BEGIN:VCALENDAR
VERSION:2.0
PRODID:-//hacksw/handcal//NONSGML v1.0//EN
CALSCALE:GREGORIAN
BEGIN:VEVENT
LOCATION:Boulevard du Maréchal Alphonse Juin\, 83420 La Croix-Valmer
DESCRIPTION:/fr/animation/distractions-et-loisirs/la-croix-valmer/concert-orchestre-symphonique-conservatoire-de-prague-7705129
DTSTART:20260627T000000Z
DTEND:20260627T000000Z
SUMMARY:Concert : Orchestre Symphonique Conservatoire de Prague
URL;VALUE=URI:/fr/animation/distractions-et-loisirs/la-croix-valmer/concert-orchestre-symphonique-conservatoire-de-prague-7705129
DTSTAMP:20260422T011106Z
UID:69e8202aacd46
END:VEVENT
END:VCALENDAR