BEGIN:VCALENDAR
VERSION:2.0
PRODID:-//hacksw/handcal//NONSGML v1.0//EN
CALSCALE:GREGORIAN
BEGIN:VEVENT
LOCATION:Boulevard du Maréchal Alphonse Juin\, 83420 La Croix-Valmer
DESCRIPTION:/de/animation/freizeit-und-unterhaltung/la-croix-valmer/konzert-conservatoire-symphonic-orchestra-7705129
DTSTART:20260627T000000Z
DTEND:20260627T000000Z
SUMMARY:Konzert : Conservatoire Symphonic Orchestra\,
URL;VALUE=URI:/de/animation/freizeit-und-unterhaltung/la-croix-valmer/konzert-conservatoire-symphonic-orchestra-7705129
DTSTAMP:20260422T023827Z
UID:69e834a373cf0
END:VEVENT
END:VCALENDAR