BEGIN:VCALENDAR
VERSION:2.0
PRODID:-//hacksw/handcal//NONSGML v1.0//EN
CALSCALE:GREGORIAN
BEGIN:VEVENT
LOCATION:forum constantin\, 83420 La Croix-Valmer
DESCRIPTION:/fr/animation/sports/la-croix-valmer/decouverte-initiation-golfup-7590783
DTSTART:20260407T000000Z
DTEND:20260428T000000Z
SUMMARY:découverte & initiation Golfup
URL;VALUE=URI:/fr/animation/sports/la-croix-valmer/decouverte-initiation-golfup-7590783
DTSTAMP:20260421T204758Z
UID:69e7e27eac706
END:VEVENT
END:VCALENDAR