BEGIN:VCALENDAR
VERSION:2.0
PRODID:-//hacksw/handcal//NONSGML v1.0//EN
CALSCALE:GREGORIAN
BEGIN:VEVENT
LOCATION:forum constantin\, 83420 La Croix-Valmer
DESCRIPTION:/en/animation/sports-and-leisure/la-croix-valmer/discover-introduction-to-golfup-7590783
DTSTART:20260407T000000Z
DTEND:20260428T000000Z
SUMMARY:discover & introduction to Golfup
URL;VALUE=URI:/en/animation/sports-and-leisure/la-croix-valmer/discover-introduction-to-golfup-7590783
DTSTAMP:20260421T221143Z
UID:69e7f61f45a69
END:VEVENT
END:VCALENDAR