BEGIN:VCALENDAR
VERSION:2.0
PRODID:-//hacksw/handcal//NONSGML v1.0//EN
CALSCALE:GREGORIAN
BEGIN:VEVENT
LOCATION:forum constantin\, 83420 La Croix-Valmer
DESCRIPTION:/de/animation/sport/la-croix-valmer/entdeckung-einfuhrung-golfup-7590783
DTSTART:20260407T000000Z
DTEND:20260428T000000Z
SUMMARY:Entdeckung & Einführung Golfup
URL;VALUE=URI:/de/animation/sport/la-croix-valmer/entdeckung-einfuhrung-golfup-7590783
DTSTAMP:20260421T220933Z
UID:69e7f59dc2fd1
END:VEVENT
END:VCALENDAR