BEGIN:VCALENDAR
VERSION:2.0
PRODID:-//hacksw/handcal//NONSGML v1.0//EN
CALSCALE:GREGORIAN
BEGIN:VEVENT
LOCATION:Résidence Cap Novéa\, Bâtiment A\, 528 Boulevard de Saint Raphaël\, 83420 La Croix-Valmer
DESCRIPTION:/en/animation/entertainment-recreation/la-croix-valmer/histoires-de-momes-7139352
DTSTART:20260503T000000Z
DTEND:20260503T000000Z
SUMMARY:Histoires de mômes
URL;VALUE=URI:/en/animation/entertainment-recreation/la-croix-valmer/histoires-de-momes-7139352
DTSTAMP:20260420T003911Z
UID:69e575afc1794
END:VEVENT
END:VCALENDAR