BEGIN:VCALENDAR
VERSION:2.0
PRODID:-//hacksw/handcal//NONSGML v1.0//EN
CALSCALE:GREGORIAN
BEGIN:VEVENT
LOCATION:Résidence Cap Novéa\, Bâtiment A\, 528 Boulevard de Saint Raphaël\, 83420 La Croix-Valmer
DESCRIPTION:/de/animation/freizeit-und-unterhaltung/la-croix-valmer/recrealire-speziell-fur-tiere-6699970
DTSTART:20260517T000000Z
DTEND:20260517T000000Z
SUMMARY:Recrealire : speziell für Tiere
URL;VALUE=URI:/de/animation/freizeit-und-unterhaltung/la-croix-valmer/recrealire-speziell-fur-tiere-6699970
DTSTAMP:20260419T214106Z
UID:69e54bf2024ce
END:VEVENT
END:VCALENDAR