BEGIN:VCALENDAR
VERSION:2.0
PRODID:-//hacksw/handcal//NONSGML v1.0//EN
CALSCALE:GREGORIAN
BEGIN:VEVENT
LOCATION:Place des Palmiers\, 83420 La Croix-Valmer
DESCRIPTION:/fr/animation/distractions-et-loisirs/la-croix-valmer/concert-de-gala-west-virginia-university-wind-symphony-6503675
DTSTART:20260627T000000Z
DTEND:20260627T000000Z
SUMMARY:Concert de gala : West Virginia University Wind Symphony
URL;VALUE=URI:/fr/animation/distractions-et-loisirs/la-croix-valmer/concert-de-gala-west-virginia-university-wind-symphony-6503675
DTSTAMP:20260422T025337Z
UID:69e83831f1461
END:VEVENT
END:VCALENDAR