BEGIN:VCALENDAR
VERSION:2.0
PRODID:-//hacksw/handcal//NONSGML v1.0//EN
CALSCALE:GREGORIAN
BEGIN:VEVENT
LOCATION:Place des Palmiers\, 83420 La Croix-Valmer
DESCRIPTION:/en/animation/entertainment-recreation/la-croix-valmer/gala-concert-west-virginia-university-wind-symphony-6503675
DTSTART:20260627T000000Z
DTEND:20260627T000000Z
SUMMARY:Gala Concert : West Virginia University Wind Symphony
URL;VALUE=URI:/en/animation/entertainment-recreation/la-croix-valmer/gala-concert-west-virginia-university-wind-symphony-6503675
DTSTAMP:20260422T042324Z
UID:69e84d3cd7d10
END:VEVENT
END:VCALENDAR