BEGIN:VCALENDAR
VERSION:2.0
PRODID:-//hacksw/handcal//NONSGML v1.0//EN
CALSCALE:GREGORIAN
BEGIN:VEVENT
LOCATION:Place des Palmiers\, 83420 La Croix-Valmer
DESCRIPTION:/de/animation/freizeit-und-unterhaltung/la-croix-valmer/galakonzert-west-virginia-university-wind-symphony-6503675
DTSTART:20260627T000000Z
DTEND:20260627T000000Z
SUMMARY:Galakonzert : West Virginia University Wind Symphony
URL;VALUE=URI:/de/animation/freizeit-und-unterhaltung/la-croix-valmer/galakonzert-west-virginia-university-wind-symphony-6503675
DTSTAMP:20260422T042022Z
UID:69e84c8678a49
END:VEVENT
END:VCALENDAR