BEGIN:VCALENDAR
VERSION:2.0
PRODID:-//hacksw/handcal//NONSGML v1.0//EN
CALSCALE:GREGORIAN
BEGIN:VEVENT
LOCATION:Place des Palmiers\, 83420 La Croix-Valmer
DESCRIPTION:/fr/animation/distractions-et-loisirs/la-croix-valmer/concert-de-gala-orchestre-symphonique-conservatoire-de-prague-6503461
DTSTART:20260628T000000Z
DTEND:20260628T000000Z
SUMMARY:Concert de gala : Orchestre Symphonique Conservatoire de Prague
URL;VALUE=URI:/fr/animation/distractions-et-loisirs/la-croix-valmer/concert-de-gala-orchestre-symphonique-conservatoire-de-prague-6503461
DTSTAMP:20260422T094803Z
UID:69e89953e0d94
END:VEVENT
END:VCALENDAR