BEGIN:VCALENDAR
VERSION:2.0
PRODID:-//hacksw/handcal//NONSGML v1.0//EN
CALSCALE:GREGORIAN
BEGIN:VEVENT
LOCATION:Place des Palmiers\, 83420 La Croix-Valmer
DESCRIPTION:/de/animation/freizeit-und-unterhaltung/la-croix-valmer/galakonzert-koninklijke-biltse-harmonie-6502658
DTSTART:20260626T000000Z
DTEND:20260626T000000Z
SUMMARY:Galakonzert : Koninklijke Biltse Harmonie
URL;VALUE=URI:/de/animation/freizeit-und-unterhaltung/la-croix-valmer/galakonzert-koninklijke-biltse-harmonie-6502658
DTSTAMP:20260421T105606Z
UID:69e757c6d5330
END:VEVENT
END:VCALENDAR