BEGIN:VCALENDAR
VERSION:2.0
PRODID:-//hacksw/handcal//NONSGML v1.0//EN
CALSCALE:GREGORIAN
BEGIN:VEVENT
LOCATION:Place des Palmiers\, 83420 La Croix-Valmer
DESCRIPTION:/fr/animation/distractions-et-loisirs/la-croix-valmer/exposition-fragments-emilie-hor-6457737
DTSTART:20260429T000000Z
DTEND:20260517T000000Z
SUMMARY:Exposition : Fragments\, Emilie Hor
URL;VALUE=URI:/fr/animation/distractions-et-loisirs/la-croix-valmer/exposition-fragments-emilie-hor-6457737
DTSTAMP:20260420T002716Z
UID:69e572e4ead73
END:VEVENT
END:VCALENDAR