BEGIN:VCALENDAR
VERSION:2.0
PRODID:-//hacksw/handcal//NONSGML v1.0//EN
CALSCALE:GREGORIAN
BEGIN:VEVENT
LOCATION:Place des Palmiers\, 83420 La Croix-Valmer
DESCRIPTION:/en/animation/entertainment-recreation/la-croix-valmer/exhibition-fragments-emilie-hor-6457737
DTSTART:20260429T000000Z
DTEND:20260517T000000Z
SUMMARY:Exhibition: Fragments\, Emilie Hor
URL;VALUE=URI:/en/animation/entertainment-recreation/la-croix-valmer/exhibition-fragments-emilie-hor-6457737
DTSTAMP:20260420T020046Z
UID:69e588ce87f92
END:VEVENT
END:VCALENDAR