BEGIN:VCALENDAR
VERSION:2.0
PRODID:-//hacksw/handcal//NONSGML v1.0//EN
CALSCALE:GREGORIAN
BEGIN:VEVENT
LOCATION:Place des Palmiers\, 83420 La Croix-Valmer
DESCRIPTION:/de/animation/freizeit-und-unterhaltung/la-croix-valmer/ausstellung-fragments-emilie-hor-6457737
DTSTART:20260429T000000Z
DTEND:20260517T000000Z
SUMMARY:Ausstellung: Fragments\, Emilie Hor
URL;VALUE=URI:/de/animation/freizeit-und-unterhaltung/la-croix-valmer/ausstellung-fragments-emilie-hor-6457737
DTSTAMP:20260420T020123Z
UID:69e588f3dcd84
END:VEVENT
END:VCALENDAR