BEGIN:VCALENDAR
VERSION:2.0
PRODID:-//hacksw/handcal//NONSGML v1.0//EN
CALSCALE:GREGORIAN
BEGIN:VEVENT
LOCATION:Espace Culturel Les Bruyères\, Boulevard des Villas\, 83420 La Croix-Valmer
DESCRIPTION:/fr/animation/culture/la-croix-valmer/atelier-philo-adultes-avec-claire-lucq-6221682
DTSTART:20260504T000000Z
DTEND:20260504T000000Z
SUMMARY:Atelier philo adultes avec Claire Lucq
URL;VALUE=URI:/fr/animation/culture/la-croix-valmer/atelier-philo-adultes-avec-claire-lucq-6221682
DTSTAMP:20260419T220446Z
UID:69e5517e2ad49
END:VEVENT
END:VCALENDAR