BEGIN:VCALENDAR
VERSION:2.0
PRODID:-//hacksw/handcal//NONSGML v1.0//EN
CALSCALE:GREGORIAN
BEGIN:VEVENT
LOCATION:Espace Culturel Les Bruyères\, Boulevard des Villas\, 83420 La Croix-Valmer
DESCRIPTION:/en/animation/cultural/la-croix-valmer/adult-philosophy-workshop-with-claire-lucq-6221682
DTSTART:20260504T000000Z
DTEND:20260504T000000Z
SUMMARY:Adult philosophy workshop with Claire Lucq
URL;VALUE=URI:/en/animation/cultural/la-croix-valmer/adult-philosophy-workshop-with-claire-lucq-6221682
DTSTAMP:20260419T232721Z
UID:69e564d9ba566
END:VEVENT
END:VCALENDAR