BEGIN:VCALENDAR
VERSION:2.0
PRODID:-//hacksw/handcal//NONSGML v1.0//EN
CALSCALE:GREGORIAN
BEGIN:VEVENT
LOCATION:Espace Culturel Les Bruyères\, Boulevard des Villas\, 83420 La Croix-Valmer
DESCRIPTION:/de/animation/kulturell/la-croix-valmer/philosophie-workshop-fur-erwachsene-mit-claire-lucq-6221682
DTSTART:20260504T000000Z
DTEND:20260504T000000Z
SUMMARY:Philosophie-Workshop für Erwachsene mit Claire Lucq
URL;VALUE=URI:/de/animation/kulturell/la-croix-valmer/philosophie-workshop-fur-erwachsene-mit-claire-lucq-6221682
DTSTAMP:20260419T232441Z
UID:69e564390ebd7
END:VEVENT
END:VCALENDAR