BEGIN:VCALENDAR
VERSION:2.0
PRODID:-//hacksw/handcal//NONSGML v1.0//EN
CALSCALE:GREGORIAN
BEGIN:VEVENT
LOCATION:83420 La Croix-Valmer
DESCRIPTION:/fr/animation/distractions-et-loisirs/la-croix-valmer/festival-de-folklore-portugais-6108232
DTSTART:20260523T000000Z
DTEND:20260524T000000Z
SUMMARY:Festival de folklore portugais
URL;VALUE=URI:/fr/animation/distractions-et-loisirs/la-croix-valmer/festival-de-folklore-portugais-6108232
DTSTAMP:20260420T005133Z
UID:69e5789542a58
END:VEVENT
END:VCALENDAR