BEGIN:VCALENDAR
VERSION:2.0
PRODID:-//hacksw/handcal//NONSGML v1.0//EN
CALSCALE:GREGORIAN
BEGIN:VEVENT
LOCATION:83420 La Croix-Valmer
DESCRIPTION:/de/animation/freizeit-und-unterhaltung/la-croix-valmer/festival-de-folklore-portugiesisch-6108232
DTSTART:20260523T000000Z
DTEND:20260524T000000Z
SUMMARY:Festival de folklore portugiesisch
URL;VALUE=URI:/de/animation/freizeit-und-unterhaltung/la-croix-valmer/festival-de-folklore-portugiesisch-6108232
DTSTAMP:20260420T021451Z
UID:69e58c1be6a69
END:VEVENT
END:VCALENDAR